BEGIN:VCALENDAR
VERSION:2.0
PRODID:-//stjoearts.org//NONSGML kigkonsult.se iCalcreator 2.30.10//
CALSCALE:GREGORIAN
METHOD:PUBLISH
UID:34b52a4f-bf54-425d-938e-bee1f87a2c24
X-WR-CALDESC:Painting Workshop: Making a Great Start with Larry DeGraff\nTh
 ursday & Friday\, April 30 – May 1 | 10:00 AM – 4:00 PM\n$250 (includes bo
 th days and lunch)\n\nWhether you’re new to painting or looking to strengt
 hen your fundamentals\, this workshop focuses on what it takes to start a 
 painting well. Students will explore composition\, values\, atmosphere\, a
 nd color mixing while learning a clear\, thoughtful approach to the painti
 ng process. The class includes live demonstrations\, group discussion\, an
 d individualized one-on-one guidance to help each participant develop conf
 idence and a strong foundation for future work!
X-WR-RELCALID:a1f83b3016c51a07dcbcad59de864de9
X-WR-TIMEZONE:America/Chicago
BEGIN:VTIMEZONE
TZID:America/Chicago
BEGIN:STANDARD
TZNAME:CST
DTSTART:20251102T020000
TZOFFSETFROM:-0500
TZOFFSETTO:-0600
RDATE:20261101T020000
END:STANDARD
BEGIN:DAYLIGHT
TZNAME:CDT
DTSTART:20260308T020000
TZOFFSETFROM:-0600
TZOFFSETTO:-0500
RDATE:20270314T020000
END:DAYLIGHT
END:VTIMEZONE
BEGIN:VEVENT
UID:a75ba46a-1810-4a07-a2d9-0e1f30edbfdc
DTSTAMP:20260423T084357Z
DESCRIPTION:Painting Workshop: Making a Great Start with Larry DeGraff\nThu
 rsday & Friday\, April 30 – May 1 | 10:00 AM – 4:00 PM\n$250 (includes bot
 h days and lunch)\n\nWhether you’re new to painting or looking to strength
 en your fundamentals\, this workshop focuses on what it takes to start a p
 ainting well. Students will explore composition\, values\, atmosphere\, an
 d color mixing while learning a clear\, thoughtful approach to the paintin
 g process. The class includes live demonstrations\, group discussion\, and
  individualized one-on-one guidance to help each participant develop confi
 dence and a strong foundation for future work!
DTSTART;TZID=America/Chicago:20260430T100000
DTEND;TZID=America/Chicago:20260501T160000
LOCATION:2818 Frederick Avenue\, Saint Joseph\, MO 64506 US
SUMMARY:AKMA Painting Workshop: Making a Great Start with Larry DeGraff
END:VEVENT
END:VCALENDAR
