BEGIN:VCALENDAR
VERSION:2.0
PRODID:-//stjoearts.org//NONSGML kigkonsult.se iCalcreator 2.30.10//
CALSCALE:GREGORIAN
METHOD:PUBLISH
UID:3d32c019-dcdb-47b4-a839-7ab2ce996572
X-WR-CALDESC:Join us for Free Museum After Hours\, a welcoming community ev
 ening held on the 4th Tuesday of every month from 4–7 PM. Enjoy exploring 
 the galleries at your own pace in a relaxed\, after-hours atmosphere desig
 ned for gathering\, conversation\, and connection through art. Admission i
 s free\, with dinner available for purchase and a cash bar open\, making i
 t an easy and enjoyable night out for friends\, families\, and neighbors a
 like!
X-WR-RELCALID:ecda34c6a0cc7b0e932dda074c9b960d
X-WR-TIMEZONE:America/Chicago
BEGIN:VTIMEZONE
TZID:America/Chicago
BEGIN:STANDARD
TZNAME:CST
DTSTART:20251102T020000
TZOFFSETFROM:-0500
TZOFFSETTO:-0600
RDATE:20261101T020000
END:STANDARD
BEGIN:DAYLIGHT
TZNAME:CDT
DTSTART:20260308T020000
TZOFFSETFROM:-0600
TZOFFSETTO:-0500
RDATE:20270314T020000
END:DAYLIGHT
END:VTIMEZONE
BEGIN:VEVENT
UID:5d6d8275-7513-4fe8-845a-3ef2385210f7
DTSTAMP:20260421T082647Z
DESCRIPTION:Join us for Free Museum After Hours\, a welcoming community eve
 ning held on the 4th Tuesday of every month from 4–7 PM. Enjoy exploring t
 he galleries at your own pace in a relaxed\, after-hours atmosphere design
 ed for gathering\, conversation\, and connection through art. Admission is
  free\, with dinner available for purchase and a cash bar open\, making it
  an easy and enjoyable night out for friends\, families\, and neighbors al
 ike!
DTSTART;TZID=America/Chicago:20260428T160000
DTEND;TZID=America/Chicago:20260428T190000
LOCATION:2818 Frederick Avenue\, Saint Joseph\, MO 64506 US
SUMMARY:AKMA Free Museum After Hours
END:VEVENT
END:VCALENDAR
