BEGIN:VCALENDAR
VERSION:2.0
PRODID:-//stjoearts.org//NONSGML kigkonsult.se iCalcreator 2.30.10//
CALSCALE:GREGORIAN
METHOD:PUBLISH
UID:a8640836-c2e7-476d-905e-18ccc1640d8a
X-WR-CALDESC:
X-WR-RELCALID:c5f3bdd12cfba10905791e9764f29202
X-WR-TIMEZONE:America/Chicago
BEGIN:VTIMEZONE
TZID:America/Chicago
BEGIN:STANDARD
TZNAME:CST
DTSTART:20251102T020000
TZOFFSETFROM:-0500
TZOFFSETTO:-0600
RDATE:20261101T020000
END:STANDARD
BEGIN:DAYLIGHT
TZNAME:CDT
DTSTART:20260308T020000
TZOFFSETFROM:-0600
TZOFFSETTO:-0500
RDATE:20270314T020000
END:DAYLIGHT
END:VTIMEZONE
BEGIN:VEVENT
UID:a4e60ac8-84a9-47a2-9f0a-9ea2ed711ea2
DTSTAMP:20260425T102126Z
DESCRIPTION:
DTSTART;TZID=America/Chicago:20260404T050000
DTEND;TZID=America/Chicago:20260501T050001
LOCATION:4525 Downs Drive\, Drew Brown Art Gallery\, Potter Hall\, St. Jose
 ph\, MO 64507 US
SUMMARY:MoWest Senior Exhibition
END:VEVENT
END:VCALENDAR
