BEGIN:VCALENDAR
VERSION:2.0
PRODID:-//stjoearts.org//NONSGML kigkonsult.se iCalcreator 2.30.10//
CALSCALE:GREGORIAN
METHOD:PUBLISH
UID:93a4867c-5c94-46a8-8173-157d0f1c4bb7
X-WR-CALDESC:The 48th Annual Pot of Gold will take guests on a Great Americ
 an Road Trip\, celebrating classic Americana\, iconic destinations\, and t
 he timeless spirit of adventure.\n\nEnjoy an unforgettable evening featuri
 ng live and silent auctions\, dinner\, drinks\, and more—all in support of
  the museum’s mission. This year’s theme holds special meaning as we celeb
 rate America’s 250th anniversary alongside the Albrecht-Kemper Museum of A
 rt’s 60th anniversary—honoring a shared legacy of history\, creativity\, a
 nd the journey that has brought us here.\n\nGuests are invited to join the
  fun by dressing for the journey—think vintage road trip style\, Route 66 
 travelers\, National Park adventurers\, iconic American destinations\, Old
  Hollywood glamour\, or festive red\, white\, and blue accents. Creative i
 nterpretations of the Great American Road Trip are encouraged!
X-WR-RELCALID:60a3f3b2d365a49116a33c25f29ba722
X-WR-TIMEZONE:America/Chicago
BEGIN:VTIMEZONE
TZID:America/Chicago
BEGIN:STANDARD
TZNAME:CST
DTSTART:20251102T020000
TZOFFSETFROM:-0500
TZOFFSETTO:-0600
RDATE:20261101T020000
END:STANDARD
BEGIN:DAYLIGHT
TZNAME:CDT
DTSTART:20260308T020000
TZOFFSETFROM:-0600
TZOFFSETTO:-0500
RDATE:20270314T020000
END:DAYLIGHT
END:VTIMEZONE
BEGIN:VEVENT
UID:a52936a9-762e-48df-82fb-f821c6e45fca
DTSTAMP:20260423T083711Z
DESCRIPTION:The 48th Annual Pot of Gold will take guests on a Great America
 n Road Trip\, celebrating classic Americana\, iconic destinations\, and th
 e timeless spirit of adventure.\n\nEnjoy an unforgettable evening featurin
 g live and silent auctions\, dinner\, drinks\, and more—all in support of 
 the museum’s mission. This year’s theme holds special meaning as we celebr
 ate America’s 250th anniversary alongside the Albrecht-Kemper Museum of Ar
 t’s 60th anniversary—honoring a shared legacy of history\, creativity\, an
 d the journey that has brought us here.\n\nGuests are invited to join the 
 fun by dressing for the journey—think vintage road trip style\, Route 66 t
 ravelers\, National Park adventurers\, iconic American destinations\, Old 
 Hollywood glamour\, or festive red\, white\, and blue accents. Creative in
 terpretations of the Great American Road Trip are encouraged!
DTSTART;TZID=America/Chicago:20260425T170000
DTEND;TZID=America/Chicago:20260425T210000
LOCATION:2818 Frederick Avenue\, Saint Joseph\, MO 64506 US
SUMMARY:AKMA Pot of Gold Arts Gala & Auction
END:VEVENT
END:VCALENDAR
