BEGIN:VCALENDAR
VERSION:2.0
PRODID:-//stjoearts.org//NONSGML kigkonsult.se iCalcreator 2.30.10//
CALSCALE:GREGORIAN
METHOD:PUBLISH
UID:e6360e20-30eb-47e9-ac44-9f176c72fa59
X-WR-CALDESC:National Juried Undergraduate Exhibition Opening\nFriday\, Apr
 il 17 | 4:00–7:00 PM\n\nJoin us for the opening reception of the National 
 Juried Undergraduate Exhibition\, a dynamic showcase of emerging artists f
 rom across the country. This exhibition highlights outstanding student wor
 k and offers a unique opportunity to experience fresh perspectives and inn
 ovative creativity within a nationally recognized museum setting.\n\nThe e
 vent is free and open to the public\, welcoming artists\, students\, and c
 ommunity members alike.\n\nAn awards ceremony will take place at 6:00 PM i
 n the auditorium\, celebrating selected works and honoring excellence in u
 ndergraduate art.\n\nDon’t miss this exciting opportunity to support risin
 g talent and see the future of art on display!
X-WR-RELCALID:2cdead4fe2f1b5d4c3a23b2d1d2291ed
X-WR-TIMEZONE:America/Chicago
BEGIN:VTIMEZONE
TZID:America/Chicago
BEGIN:STANDARD
TZNAME:CST
DTSTART:20251102T020000
TZOFFSETFROM:-0500
TZOFFSETTO:-0600
RDATE:20261101T020000
END:STANDARD
BEGIN:DAYLIGHT
TZNAME:CDT
DTSTART:20260308T020000
TZOFFSETFROM:-0600
TZOFFSETTO:-0500
RDATE:20270314T020000
END:DAYLIGHT
END:VTIMEZONE
BEGIN:VEVENT
UID:b1535076-d6e8-4e74-8f57-b0160517a96e
DTSTAMP:20260421T083652Z
DESCRIPTION:National Juried Undergraduate Exhibition Opening\nFriday\, Apri
 l 17 | 4:00–7:00 PM\n\nJoin us for the opening reception of the National J
 uried Undergraduate Exhibition\, a dynamic showcase of emerging artists fr
 om across the country. This exhibition highlights outstanding student work
  and offers a unique opportunity to experience fresh perspectives and inno
 vative creativity within a nationally recognized museum setting.\n\nThe ev
 ent is free and open to the public\, welcoming artists\, students\, and co
 mmunity members alike.\n\nAn awards ceremony will take place at 6:00 PM in
  the auditorium\, celebrating selected works and honoring excellence in un
 dergraduate art.\n\nDon’t miss this exciting opportunity to support rising
  talent and see the future of art on display!
DTSTART;TZID=America/Chicago:20260417T160000
DTEND;TZID=America/Chicago:20260417T190000
LOCATION:2818 Frederick Avenue\, Saint Joseph\, MO 64506 US
SUMMARY:AKMA National Juried Undergraduate Exhibition Opening
END:VEVENT
END:VCALENDAR
