BEGIN:VCALENDAR
VERSION:2.0
PRODID:-//stjoearts.org//NONSGML kigkonsult.se iCalcreator 2.30.10//
CALSCALE:GREGORIAN
METHOD:PUBLISH
UID:e10971f2-c499-4096-92ca-715aca54eff1
X-WR-CALDESC:The Sculpture Walk is a year-long exhibit of juried\, outdoor 
 sculptures in Downtown St. Joseph\, Missouri.  There will be 15 new sculpt
 ures feature stunning works of art created by artists from across North Am
 erica\, including pieces by Missouri sculptors.  Viewers of the sculpture 
 walk are encouraged to vote for their favorite sculpture by completing the
  ballot found in the walking tour brochure and dropping it off in one of t
 he ballot boxes downtown\, the Convention and Visitors Bureau office\, 911
  Frederick Ave.\, or by dropping it off at the Allied Arts office\, 118 S.
  8th Street.  \n\nEveryone is invited to join in the guided “First Walk” o
 n Wednesday\, June 12\, 2024.  Walkers will meet at the corner of 4th and 
 Felix at 6:30 p.m.  \n\nThis Allied Arts Council program is made possible 
 through a partnership with the City of St. Joseph\, the St. Joseph Downtow
 n Community Improvement District\, business sponsors\, and Friends of the 
 Sculpture Walk.  \n
X-WR-RELCALID:cf7ef6fa6280a67797599a3a22c6ea3e
X-WR-TIMEZONE:America/Chicago
BEGIN:VTIMEZONE
TZID:America/Chicago
BEGIN:STANDARD
TZNAME:CST
DTSTART:20231105T020000
TZOFFSETFROM:-0500
TZOFFSETTO:-0600
RDATE:20241103T020000
RDATE:20251102T020000
END:STANDARD
BEGIN:DAYLIGHT
TZNAME:CDT
DTSTART:20240310T020000
TZOFFSETFROM:-0600
TZOFFSETTO:-0500
RDATE:20250309T020000
END:DAYLIGHT
END:VTIMEZONE
BEGIN:VEVENT
UID:44524c6f-bf5a-40aa-ac5d-10a9a9f38007
DTSTAMP:20260423T082924Z
DESCRIPTION:The Sculpture Walk is a year-long exhibit of juried\, outdoor s
 culptures in Downtown St. Joseph\, Missouri.  There will be 15 new sculptu
 res feature stunning works of art created by artists from across North Ame
 rica\, including pieces by Missouri sculptors.  Viewers of the sculpture w
 alk are encouraged to vote for their favorite sculpture by completing the 
 ballot found in the walking tour brochure and dropping it off in one of th
 e ballot boxes downtown\, the Convention and Visitors Bureau office\, 911 
 Frederick Ave.\, or by dropping it off at the Allied Arts office\, 118 S. 
 8th Street.  \n\nEveryone is invited to join in the guided “First Walk” on
  Wednesday\, June 12\, 2024.  Walkers will meet at the corner of 4th and F
 elix at 6:30 p.m.  \n\nThis Allied Arts Council program is made possible t
 hrough a partnership with the City of St. Joseph\, the St. Joseph Downtown
  Community Improvement District\, business sponsors\, and Friends of the S
 culpture Walk.  \n
DTSTART;TZID=America/Chicago:20240612T183000
DTEND;TZID=America/Chicago:20240612T193000
LOCATION:Downtown Commerce Bank\, 328 Felix Street\, St. Joseph\, Missouri
SUMMARY:First Walk\, 2024-25 Sculpture Walk
END:VEVENT
END:VCALENDAR
